BEGIN:VCALENDAR
VERSION:2.0
PRODID:-//Savez-vous Planter Chez Nous //NONSGML Events //EN
CALSCALE:GREGORIAN
X-WR-CALNAME:Savez-vous Planter Chez Nous
BEGIN:VEVENT
CREATED:2025-03-06
UID:86226
DTEND;VALUE=DATE:20260503T180000
DTSTART;VALUE=DATE:20260502T100000
DTSTAMP:2026-04-25
LOCATION:Place du Château des Ducs\, 87330 Mortemart\, France
DESCRIPTION:Plongez dans l’univers du jardinage au cœur du magnifique parc du château des Ducs à Mortemart\, classé parmi les Plus Beaux Villages de France. Rencontrez des horticulteurs et pépiniéristes passionnés\, découvrez des végétaux rares pour embellir votre jardin dans un cadre historique d’exception !
SUMMARY:Fête des plantes du Château des Ducs de Mortemart
URL;VALUE=URI:https://www.plantezcheznous.com/evenements/fete-des-plantes-du-chateau-des-ducs-de-mortemart/
TRANSP:OPAQUE
BEGIN:VALARM
ACTION:DISPLAY
TRIGGER;VALUE=DATE-TIME:2026-05-03
DESCRIPTION:Reminder for Fête des plantes du Château des Ducs de Mortemart
END:VALARM
END:VEVENT
END:VCALENDAR
