BEGIN:VCALENDAR
VERSION:2.0
PRODID:-//Savez-vous Planter Chez Nous //NONSGML Events //EN
CALSCALE:GREGORIAN
X-WR-CALNAME:Savez-vous Planter Chez Nous
BEGIN:VEVENT
CREATED:2024-02-29
UID:61729
DTEND;VALUE=DATE:20250421T180000
DTSTART;VALUE=DATE:20250419T100000
DTSTAMP:2026-04-24
LOCATION:Cour d'Antin\, 45270 Bellegarde\, France
DESCRIPTION:Rejoignez la Foire aux Rosiers de Bellegarde\, un festival éclatant dédié à la beauté des jardins. Cet événement unique rassemble passionnés de nature et curieux pour un weekend festif.
SUMMARY:Foire aux rosiers de Bellegarde
URL;VALUE=URI:https://www.plantezcheznous.com/evenements/foire-aux-rosiers-de-bellegarde/
TRANSP:OPAQUE
BEGIN:VALARM
ACTION:DISPLAY
TRIGGER;VALUE=DATE-TIME:2025-04-21
DESCRIPTION:Reminder for Foire aux rosiers de Bellegarde
END:VALARM
END:VEVENT
END:VCALENDAR
