BEGIN:VCALENDAR
VERSION:2.0
PRODID:-//Savez-vous Planter Chez Nous //NONSGML Events //EN
CALSCALE:GREGORIAN
X-WR-CALNAME:Savez-vous Planter Chez Nous
BEGIN:VEVENT
CREATED:2017-12-07
UID:18757
DTEND;VALUE=DATE:20260531T190000
DTSTART;VALUE=DATE:20260529T090000
DTSTAMP:2026-04-22
LOCATION:Les Jardins d’Albertas\, avenue de la Croix d'Or\, 13320 Bouc-Bel-Air\, France
DESCRIPTION:Pour les passionnés de plantes rares et méditerranéennes\, cet événement incontournable dans le Sud de la France est une célébration unique de la richesse botanique ! 80 pépiniéristes et artisans du jardin\, soigneusement sélectionnés\, sont présents.
SUMMARY:Journées des Plantes des Jardins d’Albertas
URL;VALUE=URI:https://www.plantezcheznous.com/evenements/journees-des-plantes-des-jardins-dalbertas/
TRANSP:OPAQUE
BEGIN:VALARM
ACTION:DISPLAY
TRIGGER;VALUE=DATE-TIME:2026-05-31
DESCRIPTION:Reminder for Journées des Plantes des Jardins d&rsquo\;Albertas
END:VALARM
END:VEVENT
END:VCALENDAR
