BEGIN:VCALENDAR
VERSION:2.0
PRODID:-//Savez-vous Planter Chez Nous //NONSGML Events //EN
CALSCALE:GREGORIAN
X-WR-CALNAME:Savez-vous Planter Chez Nous
BEGIN:VEVENT
CREATED:2017-04-01
UID:18596
DTEND;VALUE=DATE:20260524T200000
DTSTART;VALUE=DATE:20260514T100000
DTSTAMP:2026-04-25
LOCATION:10200 Bergères\, France
DESCRIPTION:Plus de 150 exposants\, entre pépiniéristes\, horticulteurs et créateurs\, se donnent rendez-vous pour transformer l’espace urbain en un véritable éden végétal.
SUMMARY:Journée des Plantes de Bergères
URL;VALUE=URI:https://www.plantezcheznous.com/evenements/journee-des-plantes-de-bergeres/
TRANSP:OPAQUE
BEGIN:VALARM
ACTION:DISPLAY
TRIGGER;VALUE=DATE-TIME:2026-05-24
DESCRIPTION:Reminder for Journée des Plantes de Bergères
END:VALARM
END:VEVENT
END:VCALENDAR
