BEGIN:VCALENDAR
VERSION:2.0
PRODID:-//Savez-vous Planter Chez Nous //NONSGML Events //EN
CALSCALE:GREGORIAN
X-WR-CALNAME:Savez-vous Planter Chez Nous
BEGIN:VEVENT
CREATED:2017-03-10
UID:18485
DTEND;VALUE=DATE:20260329T180000
DTSTART;VALUE=DATE:20260328T090000
DTSTAMP:2026-04-19
LOCATION:Château de Saint-Priest\, 2 rue l'égalité\, 69800 Saint-Priest\, France
DESCRIPTION:La foire aux plantes rares de Saint-Priest est une expo-vente de végétaux rares pour le jardin d’agrément et le potager. Vous trouverez aussi de l’artisanat et de la déco liée au jardin\, une librairie botanique et horticole et des associations de passionnés de jardins.
SUMMARY:Foire aux Plantes Rares de Saint-Priest
URL;VALUE=URI:https://www.plantezcheznous.com/evenements/foire-aux-plantes-rares-de-saint-priest/
TRANSP:OPAQUE
BEGIN:VALARM
ACTION:DISPLAY
TRIGGER;VALUE=DATE-TIME:2026-03-29
DESCRIPTION:Reminder for Foire aux Plantes Rares de Saint-Priest
END:VALARM
END:VEVENT
END:VCALENDAR
